
BEGIN:VCALENDAR

VERSION:2.0
PRODID:-//Open Day//NONSGML Events //EN
X-WR-CALNAME: Open Day
X-ORIGINAL-URL: https://carncot.school.nz/at/event/open-day-2
X-WR-CALDESC:Open Day
CALSCALE:GREGORIAN

		
BEGIN:VEVENT
UID:e3346@carncot.school.nz
TZID:Pacific/Auckland
DTSTART:20180815T093000
DTEND:20180815T143000
SUMMARY:Open Day
DESCRIPTION:
URL:https://carncot.school.nz/at/event/open-day-2
END:VEVENT

END:VCALENDAR

	