
BEGIN:VCALENDAR
VERSION:2.0
PRODID:-//Carncot Calendar//NONSGML Events //EN
X-WR-CALNAME:The Carncot Calendar
X-ORIGINAL-URL: https://carncot.school.nz
X-WR-CALDESC: the Carncot calendar


BEGIN:VEVENT
UID:e3325@carncot.school.nz
TZID:Pacific/Auckland
DTSTART:20190527T084500
SUMMARY:Term 2 starts
DESCRIPTION:
URL:https://carncot.school.nz/at/event/term-2-starts
END:VEVENT


BEGIN:VEVENT
UID:e3324@carncot.school.nz
TZID:Pacific/Auckland
DTSTART:20190412T151000
SUMMARY:Term 1 ends
DESCRIPTION:
URL:https://carncot.school.nz/at/event/term-1-ends
END:VEVENT


BEGIN:VEVENT
UID:e3323@carncot.school.nz
TZID:Pacific/Auckland
DTSTART:20190204T084500
SUMMARY:Term 1 starts
DESCRIPTION:
URL:https://carncot.school.nz/at/event/term-1-starts-2
END:VEVENT


BEGIN:VEVENT
UID:e3550@carncot.school.nz
TZID:Pacific/Auckland
DTSTART:20181214T084500
DTEND:20181214T123000
SUMMARY:Last day of Term &#8211; children home at midday.
DESCRIPTION:
URL:https://carncot.school.nz/at/event/last-day-of-term-children-home-at-midday
END:VEVENT


BEGIN:VEVENT
UID:e3548@carncot.school.nz
TZID:Pacific/Auckland
DTSTART:20181213T090000
SUMMARY:Prize Giving rehearsal at the Salvation Army
DESCRIPTION:
URL:https://carncot.school.nz/at/event/prize-giving-rehearsal-at-the-salvation-army
END:VEVENT


BEGIN:VEVENT
UID:e3549@carncot.school.nz
TZID:Pacific/Auckland
DTSTART:20181213T180000
SUMMARY:Prize Giving 2018
DESCRIPTION:
URL:https://carncot.school.nz/at/event/prize-giving-2018
END:VEVENT


BEGIN:VEVENT
UID:e3547@carncot.school.nz
TZID:Pacific/Auckland
DTSTART:20181212T204500
SUMMARY:House Day and Secret Santa
DESCRIPTION:
URL:https://carncot.school.nz/at/event/house-day-and-secret-santa-2
END:VEVENT


BEGIN:VEVENT
UID:e3546@carncot.school.nz
TZID:Pacific/Auckland
DTSTART:20181211T084500
DTEND:20181211T151000
SUMMARY:Teams Day Out (Years 1-4, Years 5/6)
DESCRIPTION:
URL:https://carncot.school.nz/at/event/teams-day-out-years-1-4-years-5-6
END:VEVENT


BEGIN:VEVENT
UID:e3545@carncot.school.nz
TZID:Pacific/Auckland
DTSTART:20181210T090000
SUMMARY:WPCA Graduation &#8211; Overnight Camp (Year 7/8)
DESCRIPTION:
URL:https://carncot.school.nz/at/event/wpca-graduation-overnight-camp-year-7-8
END:VEVENT


BEGIN:VEVENT
UID:e3543@carncot.school.nz
TZID:Pacific/Auckland
DTSTART:20181207T133000
SUMMARY:Services Assembly
DESCRIPTION:
URL:https://carncot.school.nz/at/event/services-assembly-4
END:VEVENT


BEGIN:VEVENT
UID:e3544@carncot.school.nz
TZID:Pacific/Auckland
DTSTART:20181207T180000
SUMMARY:Christmas Carols
DESCRIPTION:
URL:https://carncot.school.nz/at/event/christmas-carols-2
END:VEVENT


BEGIN:VEVENT
UID:e3542@carncot.school.nz
TZID:Pacific/Auckland
DTSTART:20181206T190000
DTEND:20181206T210000
SUMMARY:Leavers&#8217; Dinner
DESCRIPTION:
URL:https://carncot.school.nz/at/event/leavers-dinner-2
END:VEVENT


BEGIN:VEVENT
UID:e3540@carncot.school.nz
TZID:Pacific/Auckland
DTSTART:20181205T103000
SUMMARY:Chamber Music Group
DESCRIPTION:
URL:https://carncot.school.nz/at/event/chamber-music-group-15
END:VEVENT


BEGIN:VEVENT
UID:e3539@carncot.school.nz
TZID:Pacific/Auckland
DTSTART:20181204T124500
SUMMARY:Clubs day
DESCRIPTION:
URL:https://carncot.school.nz/at/event/clubs-day-15
END:VEVENT


BEGIN:VEVENT
UID:e3538@carncot.school.nz
TZID:Pacific/Auckland
DTSTART:20181203T123000
SUMMARY:Sustainability Action Council
DESCRIPTION:
URL:https://carncot.school.nz/at/event/sustainability-action-council-24
END:VEVENT


BEGIN:VEVENT
UID:e3536@carncot.school.nz
TZID:Pacific/Auckland
DTSTART:20181130T110000
SUMMARY:Meals on Wheels Year 6
DESCRIPTION:
URL:https://carncot.school.nz/at/event/meals-on-wheels-year-6-6
END:VEVENT


BEGIN:VEVENT
UID:e3537@carncot.school.nz
TZID:Pacific/Auckland
DTSTART:20181130T141500
SUMMARY:Assembly
DESCRIPTION:
URL:https://carncot.school.nz/at/event/assembly-129
END:VEVENT


BEGIN:VEVENT
UID:e3535@carncot.school.nz
TZID:Pacific/Auckland
DTSTART:20181128T090000
SUMMARY:Year 5/6 Interschool Athletics
DESCRIPTION:
URL:https://carncot.school.nz/at/event/year-5-6-interschool-athletics
END:VEVENT


BEGIN:VEVENT
UID:e3534@carncot.school.nz
TZID:Pacific/Auckland
DTSTART:20181127T124500
SUMMARY:Clubs day
DESCRIPTION:
URL:https://carncot.school.nz/at/event/clubs-day-14
END:VEVENT


BEGIN:VEVENT
UID:e3556@carncot.school.nz
TZID:Pacific/Auckland
DTSTART:20181127T193000
SUMMARY:Parents&#8217; Association Meeting
DESCRIPTION:Venue:  Carncot School, Staff Room (upstairs)
URL:https://carncot.school.nz/at/event/parents-association-meeting-25
END:VEVENT


BEGIN:VEVENT
UID:e3533@carncot.school.nz
TZID:Pacific/Auckland
DTSTART:20181126T123000
SUMMARY:Sustainability Action Council
DESCRIPTION:
URL:https://carncot.school.nz/at/event/sustainability-action-council-23
END:VEVENT


BEGIN:VEVENT
UID:e3532@carncot.school.nz
TZID:Pacific/Auckland
DTSTART:20181123T141500
SUMMARY:Assembly
DESCRIPTION:
URL:https://carncot.school.nz/at/event/assembly-128
END:VEVENT


BEGIN:VEVENT
UID:e3531@carncot.school.nz
TZID:Pacific/Auckland
DTSTART:20181122T084500
DTEND:20181122T151000
SUMMARY:Athletics Day
DESCRIPTION:
URL:https://carncot.school.nz/at/event/athletics-day-2
END:VEVENT


BEGIN:VEVENT
UID:e3531@carncot.school.nz
TZID:Pacific/Auckland
DTSTART:20181122T084500
DTEND:20181122T151000
SUMMARY:Athletics Day
DESCRIPTION:
URL:https://carncot.school.nz/at/event/athletics-day-2
END:VEVENT


BEGIN:VEVENT
UID:e3531@carncot.school.nz
TZID:Pacific/Auckland
DTSTART:20181122T084500
DTEND:20181122T151000
SUMMARY:Athletics Day
DESCRIPTION:
URL:https://carncot.school.nz/at/event/athletics-day-2
END:VEVENT


BEGIN:VEVENT
UID:e3531@carncot.school.nz
TZID:Pacific/Auckland
DTSTART:20181122T084500
DTEND:20181122T151000
SUMMARY:Athletics Day
DESCRIPTION:
URL:https://carncot.school.nz/at/event/athletics-day-2
END:VEVENT


BEGIN:VEVENT
UID:e3530@carncot.school.nz
TZID:Pacific/Auckland
DTSTART:20181121T103000
SUMMARY:Chamber Music Group
DESCRIPTION:
URL:https://carncot.school.nz/at/event/chamber-music-group-14
END:VEVENT


BEGIN:VEVENT
UID:e3529@carncot.school.nz
TZID:Pacific/Auckland
DTSTART:20181120T124500
SUMMARY:Clubs day
DESCRIPTION:
URL:https://carncot.school.nz/at/event/clubs-day-13
END:VEVENT


BEGIN:VEVENT
UID:e3528@carncot.school.nz
TZID:Pacific/Auckland
DTSTART:20181119T123000
SUMMARY:Sustainability Action Council
DESCRIPTION:
URL:https://carncot.school.nz/at/event/sustainability-action-council-22
END:VEVENT


BEGIN:VEVENT
UID:e3527@carncot.school.nz
TZID:Pacific/Auckland
DTSTART:20181116T141500
SUMMARY:Assembly
DESCRIPTION:
URL:https://carncot.school.nz/at/event/assembly-127
END:VEVENT


BEGIN:VEVENT
UID:e3526@carncot.school.nz
TZID:Pacific/Auckland
DTSTART:20181114T223000
SUMMARY:Chamber Music Group
DESCRIPTION:
URL:https://carncot.school.nz/at/event/chamber-music-group-13
END:VEVENT


BEGIN:VEVENT
UID:e3525@carncot.school.nz
TZID:Pacific/Auckland
DTSTART:20181113T124500
SUMMARY:Clubs day
DESCRIPTION:
URL:https://carncot.school.nz/at/event/clubs-day-12
END:VEVENT


BEGIN:VEVENT
UID:e3523@carncot.school.nz
TZID:Pacific/Auckland
DTSTART:20181109T141500
SUMMARY:Assembly
DESCRIPTION:
URL:https://carncot.school.nz/at/event/assembly-126
END:VEVENT


BEGIN:VEVENT
UID:e3521@carncot.school.nz
TZID:Pacific/Auckland
DTSTART:20181108T173000
DTEND:20181108T183000
SUMMARY:Art Exhibition
DESCRIPTION:
URL:https://carncot.school.nz/at/event/art-exhibition-3
END:VEVENT


BEGIN:VEVENT
UID:e3522@carncot.school.nz
TZID:Pacific/Auckland
DTSTART:20181108T183000
SUMMARY:Soiree
DESCRIPTION:
URL:https://carncot.school.nz/at/event/soiree-3
END:VEVENT


BEGIN:VEVENT
UID:e3519@carncot.school.nz
TZID:Pacific/Auckland
DTSTART:20181107T103000
SUMMARY:2nd HPV Year 8 (boys and girls)
DESCRIPTION:
URL:https://carncot.school.nz/at/event/2nd-hpv-year-8-boys-and-girls
END:VEVENT


BEGIN:VEVENT
UID:e3520@carncot.school.nz
TZID:Pacific/Auckland
DTSTART:20181107T223000
SUMMARY:Chamber Music Group
DESCRIPTION:
URL:https://carncot.school.nz/at/event/chamber-music-group-12
END:VEVENT


BEGIN:VEVENT
UID:e3518@carncot.school.nz
TZID:Pacific/Auckland
DTSTART:20181106T124500
SUMMARY:Clubs day
DESCRIPTION:
URL:https://carncot.school.nz/at/event/clubs-day-11
END:VEVENT


BEGIN:VEVENT
UID:e3516@carncot.school.nz
TZID:Pacific/Auckland
DTSTART:20181105T123000
SUMMARY:Sustainability Action Council
DESCRIPTION:
URL:https://carncot.school.nz/at/event/sustainability-action-council-20
END:VEVENT


BEGIN:VEVENT
UID:e3517@carncot.school.nz
TZID:Pacific/Auckland
DTSTART:20181105T090000
DTEND:20181107T120000
SUMMARY:ERO School Review
DESCRIPTION:
URL:https://carncot.school.nz/at/event/ero-school-review
END:VEVENT


BEGIN:VEVENT
UID:e3524@carncot.school.nz
TZID:Pacific/Auckland
DTSTART:20181105T123000
SUMMARY:Sustainability Action Council
DESCRIPTION:
URL:https://carncot.school.nz/at/event/sustainability-action-council-21
END:VEVENT


BEGIN:VEVENT
UID:e3515@carncot.school.nz
TZID:Pacific/Auckland
DTSTART:20181102T141500
SUMMARY:Assembly
DESCRIPTION:
URL:https://carncot.school.nz/at/event/assembly-125
END:VEVENT


BEGIN:VEVENT
UID:e3514@carncot.school.nz
TZID:Pacific/Auckland
DTSTART:20181101T180000
DTEND:20181101T193000
SUMMARY:Year 1-6 Disco
DESCRIPTION:
URL:https://carncot.school.nz/at/event/year-1-6-disco
END:VEVENT


BEGIN:VEVENT
UID:e3513@carncot.school.nz
TZID:Pacific/Auckland
DTSTART:20181031T103000
SUMMARY:Chamber Music Group
DESCRIPTION:
URL:https://carncot.school.nz/at/event/chamber-music-group-11
END:VEVENT


BEGIN:VEVENT
UID:e3512@carncot.school.nz
TZID:Pacific/Auckland
DTSTART:20181030T124500
SUMMARY:Clubs day
DESCRIPTION:
URL:https://carncot.school.nz/at/event/clubs-day-10
END:VEVENT


BEGIN:VEVENT
UID:e3554@carncot.school.nz
TZID:Pacific/Auckland
DTSTART:20181030T193000
SUMMARY:Parents&#8217; Association Meeting
DESCRIPTION:Venue: Carncot School, Staff Room (upstairs)
URL:https://carncot.school.nz/at/event/parents-association-gala-committee-meeting
END:VEVENT


BEGIN:VEVENT
UID:e3511@carncot.school.nz
TZID:Pacific/Auckland
DTSTART:20181029T123000
SUMMARY:Sustainability Action Council
DESCRIPTION:
URL:https://carncot.school.nz/at/event/sustainability-action-council-19
END:VEVENT


BEGIN:VEVENT
UID:e3508@carncot.school.nz
TZID:Pacific/Auckland
DTSTART:20181026T110000
SUMMARY:Meals on Wheels &#8211; Year 8
DESCRIPTION:
URL:https://carncot.school.nz/at/event/meals-on-wheels-year-8-5
END:VEVENT


BEGIN:VEVENT
UID:e3509@carncot.school.nz
TZID:Pacific/Auckland
DTSTART:20181026T141500
SUMMARY:Assembly
DESCRIPTION:
URL:https://carncot.school.nz/at/event/assembly-124
END:VEVENT


BEGIN:VEVENT
UID:e3510@carncot.school.nz
TZID:Pacific/Auckland
DTSTART:20181026T160000
SUMMARY:Summer Touch starts
DESCRIPTION:
URL:https://carncot.school.nz/at/event/summer-touch-starts
END:VEVENT


BEGIN:VEVENT
UID:e3504@carncot.school.nz
TZID:Pacific/Auckland
DTSTART:20181025T153000
SUMMARY:Badminton Year 7/8 starts
DESCRIPTION:
URL:https://carncot.school.nz/at/event/badminton-year-7-8-starts
END:VEVENT


BEGIN:VEVENT
UID:e3505@carncot.school.nz
TZID:Pacific/Auckland
DTSTART:20181025T153000
SUMMARY:Summer Hockey Year 7/8 starts
DESCRIPTION:
URL:https://carncot.school.nz/at/event/summer-hockey-year-7-8-starts
END:VEVENT


BEGIN:VEVENT
UID:e3507@carncot.school.nz
TZID:Pacific/Auckland
DTSTART:20181025T090000
SUMMARY:WPCA Challenge 5 &#8211; Adrenalin Forest
DESCRIPTION:
URL:https://carncot.school.nz/at/event/wpca-challenge-5-adrenalin-forest
END:VEVENT


BEGIN:VEVENT
UID:e3501@carncot.school.nz
TZID:Pacific/Auckland
DTSTART:20181024T103000
SUMMARY:Chamber Music Group
DESCRIPTION:
URL:https://carncot.school.nz/at/event/chamber-music-group-10
END:VEVENT


BEGIN:VEVENT
UID:e3502@carncot.school.nz
TZID:Pacific/Auckland
DTSTART:20181024T160000
SUMMARY:Summer Soccer starts
DESCRIPTION:
URL:https://carncot.school.nz/at/event/summer-soccer-starts
END:VEVENT


BEGIN:VEVENT
UID:e3503@carncot.school.nz
TZID:Pacific/Auckland
DTSTART:20181024T153000
SUMMARY:Summer Hockey Year 3-6 starts
DESCRIPTION:
URL:https://carncot.school.nz/at/event/summer-hockey-year-3-6-starts
END:VEVENT


BEGIN:VEVENT
UID:e3499@carncot.school.nz
TZID:Pacific/Auckland
DTSTART:20181023T124500
SUMMARY:Clubs day
DESCRIPTION:
URL:https://carncot.school.nz/at/event/clubs-day-9
END:VEVENT


BEGIN:VEVENT
UID:e3500@carncot.school.nz
TZID:Pacific/Auckland
DTSTART:20181023T153000
SUMMARY:Summer Hockey Year 1/2 starts
DESCRIPTION:
URL:https://carncot.school.nz/at/event/summer-hockey-year-1-2-starts
END:VEVENT


BEGIN:VEVENT
UID:e3498@carncot.school.nz
TZID:Pacific/Auckland
DTSTART:20181022T084500
DTEND:20181022T151000
SUMMARY:LABOUR DAY &#8211; SCHOOL CLOSED
DESCRIPTION:
URL:https://carncot.school.nz/at/event/labour-day-school-closed-2
END:VEVENT


BEGIN:VEVENT
UID:e3497@carncot.school.nz
TZID:Pacific/Auckland
DTSTART:20181019T084500
DTEND:20181019T120000
SUMMARY:Barnardos and Pet Day
DESCRIPTION:All pets and students home at midday.
URL:https://carncot.school.nz/at/event/barnardos-and-pet-day
END:VEVENT


BEGIN:VEVENT
UID:e3496@carncot.school.nz
TZID:Pacific/Auckland
DTSTART:20181018T133000
SUMMARY:Farewell Assembly &#8211; Miss White
DESCRIPTION:
URL:https://carncot.school.nz/at/event/farewell-assembly-miss-white
END:VEVENT


BEGIN:VEVENT
UID:e3495@carncot.school.nz
TZID:Pacific/Auckland
DTSTART:20181018T093000
SUMMARY:NZ Shake Out 2018
DESCRIPTION:
URL:https://carncot.school.nz/at/event/nz-shake-out-2018
END:VEVENT


BEGIN:VEVENT
UID:e3494@carncot.school.nz
TZID:Pacific/Auckland
DTSTART:20181016T124500
SUMMARY:Club registration
DESCRIPTION:
URL:https://carncot.school.nz/at/event/club-registration
END:VEVENT


BEGIN:VEVENT
UID:e3321@carncot.school.nz
TZID:Pacific/Auckland
DTSTART:20181015T084500
SUMMARY:Term 4 starts
DESCRIPTION:
URL:https://carncot.school.nz/at/event/term-4-starts-4
END:VEVENT


BEGIN:VEVENT
UID:e3493@carncot.school.nz
TZID:Pacific/Auckland
DTSTART:20181015T154500
SUMMARY:Volleyball Year 7/8 resumes
DESCRIPTION:
URL:https://carncot.school.nz/at/event/volleyball-year-7-8-resumes
END:VEVENT


BEGIN:VEVENT
UID:e3492@carncot.school.nz
TZID:Pacific/Auckland
DTSTART:20181015T090000
SUMMARY:Welcome Assembly
DESCRIPTION:
URL:https://carncot.school.nz/at/event/welcome-assembly-2
END:VEVENT


BEGIN:VEVENT
UID:e3320@carncot.school.nz
TZID:Pacific/Auckland
DTSTART:20180928T151000
SUMMARY:End of Term 3
DESCRIPTION:
URL:https://carncot.school.nz/at/event/end-of-term-3-4
END:VEVENT


BEGIN:VEVENT
UID:e3318@carncot.school.nz
TZID:Pacific/Auckland
DTSTART:20180927T120000
SUMMARY:School Production &#8211; Matinee
DESCRIPTION:
URL:https://carncot.school.nz/at/event/school-production-matinee
END:VEVENT


BEGIN:VEVENT
UID:e3319@carncot.school.nz
TZID:Pacific/Auckland
DTSTART:20180927T183000
SUMMARY:School Production
DESCRIPTION:
URL:https://carncot.school.nz/at/event/school-production-2
END:VEVENT


BEGIN:VEVENT
UID:e3465@carncot.school.nz
TZID:Pacific/Auckland
DTSTART:20180926T190000
SUMMARY:Gala Meeting
DESCRIPTION:
URL:https://carncot.school.nz/at/event/gala-meeting
END:VEVENT


BEGIN:VEVENT
UID:e3317@carncot.school.nz
TZID:Pacific/Auckland
DTSTART:20180924T120000
DTEND:20180924T140000
SUMMARY:Full school rehearsal &#8211; production
DESCRIPTION:
URL:https://carncot.school.nz/at/event/full-school-rehearsal-production
END:VEVENT


BEGIN:VEVENT
UID:e3315@carncot.school.nz
TZID:Pacific/Auckland
DTSTART:20180921T110000
SUMMARY:Meals on Wheels &#8211; Year 7
DESCRIPTION:
URL:https://carncot.school.nz/at/event/meals-on-wheels-year-7-4
END:VEVENT


BEGIN:VEVENT
UID:e3316@carncot.school.nz
TZID:Pacific/Auckland
DTSTART:20180921T141500
SUMMARY:Assembly
DESCRIPTION:
URL:https://carncot.school.nz/at/event/assembly-123
END:VEVENT


BEGIN:VEVENT
UID:e3298@carncot.school.nz
TZID:Pacific/Auckland
DTSTART:20180920T151500
SUMMARY:Parents vs Children hockey finale
DESCRIPTION:
URL:https://carncot.school.nz/at/event/parents-vs-children-hockey-finale-2
END:VEVENT


BEGIN:VEVENT
UID:e3312@carncot.school.nz
TZID:Pacific/Auckland
DTSTART:20180920T124500
SUMMARY:Sustainability Action Council
DESCRIPTION:
URL:https://carncot.school.nz/at/event/sustainability-action-council-18
END:VEVENT


BEGIN:VEVENT
UID:e3313@carncot.school.nz
TZID:Pacific/Auckland
DTSTART:20180920T124500
SUMMARY:Ukulele club
DESCRIPTION:
URL:https://carncot.school.nz/at/event/ukulele-club-8
END:VEVENT


BEGIN:VEVENT
UID:e3314@carncot.school.nz
TZID:Pacific/Auckland
DTSTART:20180920T153000
SUMMARY:Primary basketball finals
DESCRIPTION:
URL:https://carncot.school.nz/at/event/primary-basketball-finals
END:VEVENT


BEGIN:VEVENT
UID:e3310@carncot.school.nz
TZID:Pacific/Auckland
DTSTART:20180919T103000
SUMMARY:Chamber music group
DESCRIPTION:
URL:https://carncot.school.nz/at/event/chamber-music-group-9
END:VEVENT


BEGIN:VEVENT
UID:e3311@carncot.school.nz
TZID:Pacific/Auckland
DTSTART:20180919T160000
SUMMARY:Intermediate Basketball finals
DESCRIPTION:
URL:https://carncot.school.nz/at/event/intermediate-basketball-finals
END:VEVENT


BEGIN:VEVENT
UID:e3309@carncot.school.nz
TZID:Pacific/Auckland
DTSTART:20180918T124500
SUMMARY:Clubs day
DESCRIPTION:
URL:https://carncot.school.nz/at/event/clubs-day-8
END:VEVENT


BEGIN:VEVENT
UID:e3308@carncot.school.nz
TZID:Pacific/Auckland
DTSTART:20180915T120000
SUMMARY:Hockey season ends
DESCRIPTION:
URL:https://carncot.school.nz/at/event/hockey-season-ends-2
END:VEVENT


BEGIN:VEVENT
UID:e3306@carncot.school.nz
TZID:Pacific/Auckland
DTSTART:20180914T141500
SUMMARY:Assembly
DESCRIPTION:
URL:https://carncot.school.nz/at/event/assembly-122
END:VEVENT


BEGIN:VEVENT
UID:e3307@carncot.school.nz
TZID:Pacific/Auckland
DTSTART:20180914T170000
SUMMARY:Sports Coaches and Managers function at Flavour
DESCRIPTION:
URL:https://carncot.school.nz/at/event/sports-coaches-and-managers-function-at-flavour
END:VEVENT


BEGIN:VEVENT
UID:e3303@carncot.school.nz
TZID:Pacific/Auckland
DTSTART:20180913T124500
SUMMARY:Sustainability Action Council
DESCRIPTION:
URL:https://carncot.school.nz/at/event/sustainability-action-council-17
END:VEVENT


BEGIN:VEVENT
UID:e3304@carncot.school.nz
TZID:Pacific/Auckland
DTSTART:20180913T124500
SUMMARY:Ukulele club
DESCRIPTION:
URL:https://carncot.school.nz/at/event/ukulele-club-7
END:VEVENT


BEGIN:VEVENT
UID:e3305@carncot.school.nz
TZID:Pacific/Auckland
DTSTART:20180913T184500
SUMMARY:Huntley Social (Carncot Hosting)
DESCRIPTION:
URL:https://carncot.school.nz/at/event/huntley-social-carncot-hosting
END:VEVENT


BEGIN:VEVENT
UID:e3302@carncot.school.nz
TZID:Pacific/Auckland
DTSTART:20180912T103000
SUMMARY:Chamber music group
DESCRIPTION:
URL:https://carncot.school.nz/at/event/chamber-music-group-8
END:VEVENT


BEGIN:VEVENT
UID:e3300@carncot.school.nz
TZID:Pacific/Auckland
DTSTART:20180911T124500
SUMMARY:Clubs day
DESCRIPTION:
URL:https://carncot.school.nz/at/event/clubs-day-7
END:VEVENT


BEGIN:VEVENT
UID:e3301@carncot.school.nz
TZID:Pacific/Auckland
DTSTART:20180911T084500
DTEND:20180911T151000
SUMMARY:Founder&#8217;s Day
DESCRIPTION:
URL:https://carncot.school.nz/at/event/founders-day-art-exhibition
END:VEVENT


BEGIN:VEVENT
UID:e3299@carncot.school.nz
TZID:Pacific/Auckland
DTSTART:20180907T141500
SUMMARY:Assembly
DESCRIPTION:
URL:https://carncot.school.nz/at/event/assembly-121
END:VEVENT


BEGIN:VEVENT
UID:e3296@carncot.school.nz
TZID:Pacific/Auckland
DTSTART:20180906T124500
SUMMARY:Sustainability Action Council
DESCRIPTION:
URL:https://carncot.school.nz/at/event/sustainability-action-council-16
END:VEVENT


BEGIN:VEVENT
UID:e3297@carncot.school.nz
TZID:Pacific/Auckland
DTSTART:20180906T124500
SUMMARY:Ukulele club
DESCRIPTION:
URL:https://carncot.school.nz/at/event/ukulele-club-6
END:VEVENT


BEGIN:VEVENT
UID:e3295@carncot.school.nz
TZID:Pacific/Auckland
DTSTART:20180905T103000
SUMMARY:Chamber music group
DESCRIPTION:
URL:https://carncot.school.nz/at/event/chamber-music-group-7
END:VEVENT


BEGIN:VEVENT
UID:e3294@carncot.school.nz
TZID:Pacific/Auckland
DTSTART:20180904T124500
SUMMARY:Clubs day
DESCRIPTION:
URL:https://carncot.school.nz/at/event/clubs-day-6
END:VEVENT


BEGIN:VEVENT
UID:e3293@carncot.school.nz
TZID:Pacific/Auckland
DTSTART:20180831T133000
SUMMARY:Grandparents&#8217; Day and Languages Assembly
DESCRIPTION:
URL:https://carncot.school.nz/at/event/grandparents-day-and-languages-assembly
END:VEVENT


BEGIN:VEVENT
UID:e3292@carncot.school.nz
TZID:Pacific/Auckland
DTSTART:20180830T124500
SUMMARY:Ukulele club
DESCRIPTION:
URL:https://carncot.school.nz/at/event/ukulele-club-5
END:VEVENT


BEGIN:VEVENT
UID:e3290@carncot.school.nz
TZID:Pacific/Auckland
DTSTART:20180829T103000
SUMMARY:Chamber music group
DESCRIPTION:
URL:https://carncot.school.nz/at/event/chamber-music-group-6
END:VEVENT


BEGIN:VEVENT
UID:e3291@carncot.school.nz
TZID:Pacific/Auckland
DTSTART:20180829T124500
SUMMARY:Sustainability Action Council
DESCRIPTION:
URL:https://carncot.school.nz/at/event/sustainability-action-council-15
END:VEVENT


BEGIN:VEVENT
UID:e3289@carncot.school.nz
TZID:Pacific/Auckland
DTSTART:20180828T124500
SUMMARY:Clubs day
DESCRIPTION:
URL:https://carncot.school.nz/at/event/clubs-day-5
END:VEVENT


BEGIN:VEVENT
UID:e3288@carncot.school.nz
TZID:Pacific/Auckland
DTSTART:20180827T180000
SUMMARY:Intermediate Netball season ends
DESCRIPTION:
URL:https://carncot.school.nz/at/event/intermediate-netball-season-ends
END:VEVENT


END:VCALENDAR

